BEGIN:VCALENDAR
VERSION:2.0
PRODID:icalendar-ruby
CALSCALE:GREGORIAN
METHOD:PUBLISH
BEGIN:VEVENT
DTSTAMP:20260424T110203Z
UID:54-1804095@newlifeconcord.com
DTSTART:20260921T223000Z
DTEND:20260922T003000Z
CLASS:PUBLIC
CREATED:20260424T063944
DESCRIPTION:Join our online meetings at https://us04web.zoom.us/j/406206328
 3. You can join a Zoom meeting through your web browser\, the Church App\,
  or the Zoom app. If you're unable to join the meeting online\, you can jo
 in the audio portion by dialing 929-205-6099 and entering the access code 
 (Personal Meeting ID) of 406-206-3283.
LAST-MODIFIED:20260424T063944
LOCATION:Online only (https://us04web.zoom.us/j/4062063283)
SUMMARY:Weekly Women's Prayer Meeting
URL;VALUE=URI:https://www.newlifeconcord.com/events/weekly-womens-prayer-me
 eting/2026-09-21
ATTACH;FILENAME=Womens Prayer Meeting.jpg;FMTTYPE=image/jpeg:https://dq5pwp
 g1q8ru0.cloudfront.net/2026/01/03/17/37/12/3308d3d1-f4ac-4947-9811-233d9e4
 06ad5/Womens%20Prayer%20Meeting.jpg
END:VEVENT
END:VCALENDAR
