BEGIN:VCALENDAR
VERSION:2.0
PRODID:icalendar-ruby
CALSCALE:GREGORIAN
METHOD:PUBLISH
BEGIN:VEVENT
DTSTAMP:20260422T221928Z
UID:20-1794747@newlifeconcord.com
DTSTART:20260805T230000Z
DTEND:20260805T234500Z
CLASS:PUBLIC
CREATED:20260422T181822
DESCRIPTION:Join our online meetings at https://us04web.zoom.us/j/406206328
 3. You can join a Zoom meeting through your web browser\, the Church App\,
  or the Zoom app. If you're unable to join the meeting online\, you can jo
 in the audio portion by dialing 929-205-6099 and entering the access code 
 (Personal Meeting ID) of 406-206-3283.
LAST-MODIFIED:20260422T181822
LOCATION:Online only (https://us04web.zoom.us/j/4062063283)
SUMMARY:Weekly Sermon Discussion
URL;VALUE=URI:https://www.newlifeconcord.com/events/weekly-sermon-discussio
 n/2026-08-05
ATTACH;FILENAME=Sermon Discussion.jpg;FMTTYPE=image/jpeg:https://dq5pwpg1q8
 ru0.cloudfront.net/2023/12/05/07/01/33/546f381e-15e7-4e14-b72a-77fa85ef1d4
 1/Sermon%20Discussion.jpg
END:VEVENT
END:VCALENDAR
