BEGIN:VCALENDAR
VERSION:2.0
PRODID:icalendar-ruby
CALSCALE:GREGORIAN
METHOD:PUBLISH
BEGIN:VEVENT
DTSTAMP:20260422T181156Z
UID:15-1792203@newlifeconcord.com
DTSTART:20260916T234500Z
DTEND:20260917T010000Z
CLASS:PUBLIC
CREATED:20260422T122910
DESCRIPTION:Join our online meetings at https://us04web.zoom.us/j/406206328
 3. You can join a Zoom meeting through your web browser\, the Church App\,
  or the Zoom app. If you're unable to join the meeting online\, you can jo
 in the audio portion by dialing 929-205-6099 and entering the access code 
 (Personal Meeting ID) of 406-206-3283.
LAST-MODIFIED:20260422T122910
LOCATION:Online only (https://us04web.zoom.us/j/4062063283)
SUMMARY:Weekly Prayer Meeting
URL;VALUE=URI:https://www.newlifeconcord.com/events/weekly-prayer-meeting/2
 026-09-16
ATTACH;FILENAME=Prayer Meeting.jpg;FMTTYPE=image/jpeg:https://dq5pwpg1q8ru0
 .cloudfront.net/2025/02/20/01/45/15/6fd25152-6ee4-4328-bfb4-a4f8ec8e3446/P
 rayer%20Meeting.jpg
END:VEVENT
END:VCALENDAR
