BEGIN:VCALENDAR
VERSION:2.0
PRODID:icalendar-ruby
CALSCALE:GREGORIAN
METHOD:PUBLISH
BEGIN:VEVENT
DTSTAMP:20260420T041503Z
UID:42-1763241@newlifeconcord.com
DTSTART:20260928T000000Z
DTEND:20260928T010000Z
CLASS:PUBLIC
CREATED:20260418T073709
DESCRIPTION:We take a week during the biblical Fall festivals to fast and p
 ray. We encourage everyone to fast as the Lord leads but you're welcome to
  join in the prayer meetings even if you're not fasting. \nJoin our onlin
 e meetings by going to https://us04web.zoom.us/j/4062063283. You can joi
 n a Zoom meeting through your web browser or by using the Zoom app. If y
 ou're unable to join the meeting online you can join the audio portion by
  dialing 929-205-6099 and entering the access code (Personal Meeting ID) o
 f 406-206-3283.
LAST-MODIFIED:20260418T073709
LOCATION:Online only (https://us04web.zoom.us/j/4062063283)
SUMMARY:Fall Prayer Week
URL;VALUE=URI:https://www.newlifeconcord.com/events/fall-prayer-week/2026-0
 9-27
ATTACH;FILENAME=Fall Prayer Week.jpg;FMTTYPE=image/jpeg:https://dq5pwpg1q8r
 u0.cloudfront.net/2026/04/18/11/37/08/525b530d-7856-40a1-ae64-b8f21aa00f61
 /Fall%20Prayer%20Week.jpg
END:VEVENT
END:VCALENDAR
